BEGIN:VCALENDAR
VERSION:2.0
PRODID:-//auburnjiujitsuacademy.com - ECPv6.5.1.6//NONSGML v1.0//EN
CALSCALE:GREGORIAN
METHOD:PUBLISH
X-WR-CALNAME:auburnjiujitsuacademy.com
X-ORIGINAL-URL:https://auburnjiujitsuacademy.com
X-WR-CALDESC:Events for auburnjiujitsuacademy.com
REFRESH-INTERVAL;VALUE=DURATION:PT1H
X-Robots-Tag:noindex
X-PUBLISHED-TTL:PT1H
BEGIN:VTIMEZONE
TZID:UTC
BEGIN:STANDARD
TZOFFSETFROM:+0000
TZOFFSETTO:+0000
TZNAME:UTC
DTSTART:20260101T000000
END:STANDARD
END:VTIMEZONE
BEGIN:VEVENT
DTSTART;TZID=UTC:20260421T160000
DTEND;TZID=UTC:20260421T165000
DTSTAMP:20260421T101929
CREATED:20251005T000902Z
LAST-MODIFIED:20251005T000902Z
UID:10010395-1776787200-1776790200@auburnjiujitsuacademy.com
SUMMARY:Youth Kick-Boxing
DESCRIPTION:
URL:https://auburnjiujitsuacademy.com/event/youth-kick-boxing/2026-04-21/
END:VEVENT
BEGIN:VEVENT
DTSTART;TZID=UTC:20260421T170000
DTEND;TZID=UTC:20260421T180000
DTSTAMP:20260421T101929
CREATED:20240701T225656Z
LAST-MODIFIED:20240704T184508Z
UID:10000880-1776790800-1776794400@auburnjiujitsuacademy.com
SUMMARY:Youth BJJ NO GI (Ages 8+)
DESCRIPTION:
URL:https://auburnjiujitsuacademy.com/event/youth-bjj-no-gi-ages-8/2026-04-21/
ATTACH;FMTTYPE=image/webp:https://auburnjiujitsuacademy.com/wp-content/uploads/2024/07/small-1.webp
END:VEVENT
BEGIN:VEVENT
DTSTART;TZID=UTC:20260421T180000
DTEND;TZID=UTC:20260421T193000
DTSTAMP:20260421T101929
CREATED:20241203T225753Z
LAST-MODIFIED:20251004T235947Z
UID:10009901-1776794400-1776799800@auburnjiujitsuacademy.com
SUMMARY:Adult BJJ NO GI
DESCRIPTION:
URL:https://auburnjiujitsuacademy.com/event/adult-bjj-no-gi-2-2/2026-04-21/
ATTACH;FMTTYPE=image/webp:https://auburnjiujitsuacademy.com/wp-content/uploads/2024/06/41213.webp
END:VEVENT
END:VCALENDAR